Workbook

Sheet Accueil
A1: CORRIGÉ · CP4 · Jour 1 · Le tableau de bord et les KPI
A2: REBOND & CO, parc de loisirs indoor · AMUM 7 · JMSA · mardi 19 janvier 2027
B4: Comment utiliser ce classeur
B5: • Le corrigé : chaque case jaune contient la formule attendue ; les formules en toutes lettres sont rappelées sous chaque tableau, en bleu.
B6: • La situation : Nadia, la responsable du parc, prépare la réunion mensuelle. Elle demande à Léa, assistante manager, le tableau de bord de décembre 2026.
B7: • Les données viennent de la caisse (CA hors taxes par activité, tickets du snack), du compteur d'entrées, du logiciel de réservation (fêtes) et du planning (heures).
B9: N° | C9: L'onglet | D9: Ce que vous faites | E9: Temps
B10: 1 | C10: 1-Les KPI de décembre | D10: collecter, totaliser, vérifier, calculer les indicateurs | E10: 30 min
B11: 2 | C11: 2-Tableau de bord | D11: renseigner le tableau de bord : écarts, taux, évolution, voyants | E11: 40 min
B12: 3 | C12: 3-Mon tableau de bord | D12: choisir 5 indicateurs pour votre structure, et les justifier | E12: 15 min
B14: Les règles des voyants de REBOND & CO (fixées par la direction)
C15: Vert | D15: objectif atteint ou dépassé : taux de réalisation ≥ 100 %
C16: Orange | D16: à surveiller : de 95 % à 99,9 %
C17: Rouge | D17: il faut réagir : moins de 95 %
D18: Indicateur « à la baisse » (↓ : heures, réclamations) : vert si réalisé ≤ objectif, orange jusqu'à 105 %, rouge au-delà.

Sheet 1-Les KPI de décembre
A1: Exercice 1 · Les indicateurs de décembre 2026
A2: Temps conseillé : 30 min · Les données du mois, jour par jour, telles qu'elles sortent des logiciels · tous les montants sont hors taxes
A4: ★ L'ESSENTIEL
A5: 1. Ligne 46, les totaux du mois : en D46, =SOMME(D15:D45), recopiez vers la droite jusqu'en M46. 2. Colonne J, le CA HT du jour : en J15, =SOMME(E15:I15), recopiez jusqu'en J45.
A6: 3. Vérifiez : en Q16, comparez votre CA du mois au total du Z de caisse (Q15) : =J46-Q15. Le résultat doit être 0.
A7: ★★ POUR ALLER PLUS LOIN
A8: 4. Les indicateurs (Q19 à Q25), en divisant toujours des TOTAUX du mois : dépense moyenne par visiteur = CA HT ÷ entrées ; captage du snack = tickets snack ÷ entrées ; panier moyen du snack = CA snack ÷ tickets snack ; panier moyen d'une fête = CA anniversaires ÷ fêtes ; productivité horaire = CA HT ÷ heures travaillées.
A9: ★★★ LE DÉFI
A10: 5. Colonne N, le captage de chaque jour : =SIERREUR(K15/D15;""), format %, et une mise en forme conditionnelle « inférieur à 33 % » en rouge. 6. Quels jours le captage passe-t-il sous 33 % ? Pourquoi, selon vous ? (Q28)
B14: Date | C14: Jour | D14: Entrées | E14: CA entrées | F14: CA anniver-saires | G14: CA snack | H14: CA boutique | I14: CA cartes 10 entrées | J14: CA HT du jour | K14: Tickets snack | L14: Fêtes | M14: Heures travail-lées | N14: ★★★ Captage du jour | P14: Les indicateurs du mois | Q14: Valeur
B15: 46357 | C15: mardi | D15: 90 | E15: 679.36 | F15: 183.96 | G15: 296.33 | H15: 96.07 | I15: 141.86 | J15: =SUM(E15:I15) -> 1397.58 | K15: 41 | L15: 1 | M15: 47 | N15: =IFERROR(K15/D15,"") -> 0.45555556 | P15: Total du Z de caisse (CA HT du mois) | Q15: 117845
B16: 46358 | C16: mercredi | D16: 310 | E16: 2343.6 | F16: 1159.96 | G16: 931.35 | H16: 260.78 | I16: 216.21 | J16: =SUM(E16:I16) -> 4911.9 | K16: 124 | L16: 6 | M16: 73 | N16: =IFERROR(K16/D16,"") -> 0.4 | P16: 3 · ★ Contrôle : votre total − le Z | Q16: =J46-Q15 -> 0
B17: 46359 | C17: jeudi | D17: 96 | E17: 747.07 | F17: 181.82 | G17: 309.84 | H17: 88.13 | I17: 208.09 | J17: =SUM(E17:I17) -> 1534.95 | K17: 44 | L17: 1 | M17: 47 | N17: =IFERROR(K17/D17,"") -> 0.45833333
B18: 46360 | C18: vendredi | D18: 131 | E18: 960.61 | F18: 198.48 | G18: 417.76 | H18: 115.99 | I18: 165.09 | J18: =SUM(E18:I18) -> 1857.93 | K18: 58 | L18: 1 | M18: 47 | N18: =IFERROR(K18/D18,"") -> 0.44274809 | P18: Les indicateurs
B19: 46361 | C19: samedi | D19: 413 | E19: 3102.51 | F19: 1465.3 | G19: 995.06 | H19: 357.23 | I19: 332.75 | J19: =SUM(E19:I19) -> 6252.85 | K19: 129 | L19: 7 | M19: 95 | N19: =IFERROR(K19/D19,"") -> 0.31234867 | P19: 4 · CA HT du mois | Q19: =J46 -> 117845
B20: 46362 | C20: dimanche | D20: 385 | E20: 2788.69 | F20: 1453.16 | G20: 942.79 | H20: 339.47 | I20: 351.18 | J20: =SUM(E20:I20) -> 5875.29 | K20: 121 | L20: 7 | M20: 95 | N20: =IFERROR(K20/D20,"") -> 0.31428571 | P20: 4 · Entrées (visiteurs) | Q20: =D46 -> 8190
B21: 46363 | C21: lundi | D21: 90 | E21: 690.44 | F21: 0 | G21: 295.49 | H21: 81.9 | I21: 168.81 | J21: =SUM(E21:I21) -> 1236.64 | K21: 41 | L21: 0 | M21: 46 | N21: =IFERROR(K21/D21,"") -> 0.45555556 | P21: 4 · Dépense moyenne par visiteur | Q21: =J46/D46 -> 14.388889
B22: 46364 | C22: mardi | D22: 85 | E22: 645.91 | F22: 0 | G22: 274.92 | H22: 89.89 | I22: 153.76 | J22: =SUM(E22:I22) -> 1164.48 | K22: 38 | L22: 0 | M22: 46 | N22: =IFERROR(K22/D22,"") -> 0.44705882 | P22: 4 · Taux de captage du snack | Q22: =K46/D46 -> 0.35897436
B23: 46365 | C23: mercredi | D23: 294 | E23: 2155.86 | F23: 931.84 | G23: 830.37 | H23: 325.05 | I23: 170.21 | J23: =SUM(E23:I23) -> 4413.33 | K23: 113 | L23: 5 | M23: 73 | N23: =IFERROR(K23/D23,"") -> 0.38435374 | P23: 4 · Panier moyen du snack | Q23: =G46/K46 -> 7.5986395
B24: 46366 | C24: jeudi | D24: 93 | E24: 681.2 | F24: 0 | G24: 291.55 | H24: 72.49 | I24: 205.33 | J24: =SUM(E24:I24) -> 1250.57 | K24: 42 | L24: 0 | M24: 46 | N24: =IFERROR(K24/D24,"") -> 0.4516129 | P24: 4 · Panier moyen d'une fête | Q24: =F46/L46 -> 193.95833
B25: 46367 | C25: vendredi | D25: 128 | E25: 962.67 | F25: 0 | G25: 399.25 | H25: 127.07 | I25: 188.33 | J25: =SUM(E25:I25) -> 1677.32 | K25: 56 | L25: 0 | M25: 46 | N25: =IFERROR(K25/D25,"") -> 0.4375 | P25: 4 · Productivité horaire | Q25: =J46/M46 -> 56.65625
B26: 46368 | C26: samedi | D26: 407 | E26: 3116.72 | F26: 1456.14 | G26: 1024.57 | H26: 383.02 | I26: 434.54 | J26: =SUM(E26:I26) -> 6414.99 | K26: 128 | L26: 8 | M26: 95 | N26: =IFERROR(K26/D26,"") -> 0.31449631 | P26: Autres sources : cartes de fidélité ouvertes | Q26: 142
B27: 46369 | C27: dimanche | D27: 352 | E27: 2565.37 | F27: 1283.29 | G27: 816.18 | H27: 316.11 | I27: 566.94 | J27: =SUM(E27:I27) -> 5547.89 | K27: 106 | L27: 7 | M27: 95 | N27: =IFERROR(K27/D27,"") -> 0.30113636 | P27: Autres sources : réclamations du mois | Q27: 15
B28: 46370 | C28: lundi | D28: 91 | E28: 673.45 | F28: 0 | G28: 284 | H28: 69.11 | I28: 400.78 | J28: =SUM(E28:I28) -> 1427.34 | K28: 40 | L28: 0 | M28: 46 | N28: =IFERROR(K28/D28,"") -> 0.43956044 | P28: 6 · ★★★ Les jours sous 33 %, et pourquoi ? | Q28: Les samedis, les dimanches, le 24 et le 31 : les jours d'affluence, et les veilles de fête.
B29: 46371 | C29: mardi | D29: 87 | E29: 653.74 | F29: 208.01 | G29: 274.2 | H29: 76.47 | I29: 408.14 | J29: =SUM(E29:I29) -> 1620.56 | K29: 39 | L29: 1 | M29: 46 | N29: =IFERROR(K29/D29,"") -> 0.44827586
B30: 46372 | C30: mercredi | D30: 304 | E30: 2238.42 | F30: 785.39 | G30: 858.91 | H30: 262.12 | I30: 355.55 | J30: =SUM(E30:I30) -> 4500.39 | K30: 117 | L30: 4 | M30: 73 | N30: =IFERROR(K30/D30,"") -> 0.38486842
B31: 46373 | C31: jeudi | D31: 93 | E31: 719.59 | F31: 183.06 | G31: 286.44 | H31: 81.92 | I31: 456.44 | J31: =SUM(E31:I31) -> 1727.45 | K31: 41 | L31: 1 | M31: 46 | N31: =IFERROR(K31/D31,"") -> 0.44086022
B32: 46374 | C32: vendredi | D32: 125 | E32: 955.22 | F32: 182.28 | G32: 393.98 | H32: 120.64 | I32: 431.08 | J32: =SUM(E32:I32) -> 2083.2 | K32: 56 | L32: 1 | M32: 46 | N32: =IFERROR(K32/D32,"") -> 0.448
B33: 46375 | C33: samedi | D33: 429 | E33: 3337.68 | F33: 1021.97 | G33: 1044.69 | H33: 377.9 | I33: 499.85 | J33: =SUM(E33:I33) -> 6282.09 | K33: 132 | L33: 5 | M33: 93 | N33: =IFERROR(K33/D33,"") -> 0.30769231
B34: 46376 | C34: dimanche | D34: 414 | E34: 3142.8 | F34: 1003.48 | G34: 1022.41 | H34: 353.7 | I34: 530.73 | J34: =SUM(E34:I34) -> 6053.12 | K34: 132 | L34: 5 | M34: 93 | N34: =IFERROR(K34/D34,"") -> 0.31884058
B35: 46377 | C35: lundi | D35: 378 | E35: 2878.66 | F35: 760.15 | G35: 1137.22 | H35: 319.92 | I35: 489.19 | J35: =SUM(E35:I35) -> 5585.14 | K35: 148 | L35: 4 | M35: 81 | N35: =IFERROR(K35/D35,"") -> 0.39153439
B36: 46378 | C36: mardi | D36: 406 | E36: 2995.39 | F36: 836.14 | G36: 1240.56 | H36: 449.83 | I36: 324.5 | J36: =SUM(E36:I36) -> 5846.42 | K36: 159 | L36: 4 | M36: 81 | N36: =IFERROR(K36/D36,"") -> 0.39162562
B37: 46379 | C37: mercredi | D37: 435 | E37: 3266.62 | F37: 756.86 | G37: 1264.94 | H37: 387.19 | I37: 377.44 | J37: =SUM(E37:I37) -> 6053.05 | K37: 164 | L37: 4 | M37: 81 | N37: =IFERROR(K37/D37,"") -> 0.37701149
B38: 46380 | C38: jeudi | D38: 249 | E38: 1858.58 | F38: 185.47 | G38: 542.67 | H38: 275.47 | I38: 343.9 | J38: =SUM(E38:I38) -> 3206.09 | K38: 75 | L38: 1 | M38: 57 | N38: =IFERROR(K38/D38,"") -> 0.30120482
B39: 46381 | C39: vendredi · fermé (Noël) | D39: 0 | E39: 0 | F39: 0 | G39: 0 | H39: 0 | I39: 0 | J39: =SUM(E39:I39) -> 0 | K39: 0 | L39: 0 | M39: 0 | N39: =IFERROR(K39/D39,"")
B40: 46382 | C40: samedi | D40: 442 | E40: 3201.8 | F40: 914.27 | G40: 1071.16 | H40: 298.75 | I40: 150.53 | J40: =SUM(E40:I40) -> 5636.51 | K40: 134 | L40: 5 | M40: 93 | N40: =IFERROR(K40/D40,"") -> 0.30316742
... B45: 46387 | C45: jeudi | D45: 241 | E45: 1810.98 | F45: 188.39 | G45: 571.45 | H45: 158.23 | I45: 86.31 | J45: =SUM(E45:I45) -> 2815.36 | K45: 75 | L45: 1 | M45: 57 | N45: =IFERROR(K45/D45,"") -> 0.31120332
B46: Total | C46: décembre | D46: =SUM(D15:D45) -> 8190 | E46: =SUM(E15:E45) -> 61450 | F46: =SUM(F15:F45) -> 18620 | G46: =SUM(G15:G45) -> 22340 | H46: =SUM(H15:H45) -> 6980 | I46: =SUM(I15:I45) -> 8455 | J46: =SUM(J15:J45) -> 117845 | K46: =SUM(K15:K45) -> 2940 | ... M46: =SUM(M15:M45) -> 2080
B48: J15 : =SOMME(E15:I15) · D46 : =SOMME(D15:D45) · Q16 : =J46-Q15 (doit donner 0)
B49: Q21 : =J46/D46 · Q22 : =K46/D46 · Q23 : =G46/K46 · Q24 : =F46/L46 · Q25 : =J46/M46
...

Sheet 2-Tableau de bord
A1: Exercice 2 · Le tableau de bord de décembre 2026
A2: Temps conseillé : 40 min · Pour Nadia, réunion mensuelle du lundi 4 janvier 2027 · tous les montants sont hors taxes
A4: ★ L'ESSENTIEL
A5: 1. Réalisé (F15:F29) : liez chaque case à l'onglet 1. Tapez =, cliquez sur l'onglet « 1-Les KPI de décembre », puis sur la bonne cellule, Entrée.
A6: 2. Écart (G) : =F15-E15, recopié. 3. Taux de réalisation (H) : =F15/E15, format %. 4. Évolution sur décembre 2025 (J) : =F15/I15-1, format % (ou =(F15-I15)/I15).
A7: ★★ POUR ALLER PLUS LOIN
A8: 5. Voyant (K) : =SI(H15>=1;"Vert";SI(H15>=0,95;"Orange";"Rouge")), recopié ; puis une mise en forme conditionnelle par couleur (Texte qui contient…).
A9: 6. Captage : l'écart entre deux % se compte en POINTS. G23 et J23 : =(F23-E23)*100 et =(F23-I23)*100, format 0,0 "pts". 7. En N15 : le nombre de voyants rouges.
A10: ★★★ LE DÉFI
A11: 8. Deux indicateurs vont « à la baisse » (↓ en D) : leur voyant est faux ! Une seule formule pour toutes les lignes, qui tient compte de D. 9. Une page en paysage, export PDF.
B14: Famille | C14: Indicateur | D14: Sens | E14: Objectif | F14: Réalisé | G14: Écart (réalisé − objectif) | H14: Taux de réalisation | I14: Déc. 2025 (N-1) | J14: Évolution sur N-1 | K14: Voyant
B15: Activité | C15: CA HT total | D15: ↑ | E15: 120500 | F15: ='1-Les KPI de décembre'!J46 -> 117845 | G15: =F15-E15 -> -2655 | H15: =F15/E15 -> 0.9779668 | I15: 112515 | J15: =F15/I15-1 -> 0.047371462 | K15: =IF(D15="↑",IF(H15>=1,"Vert",IF(H15>=0.95,"Orange","Rouge")),IF(H15<=1,"Vert",IF(H15<=1.05,"Orange","Rouge"))) -> Orange | M15: 7 · ★★ Voyants rouges | N15: =COUNTIF(K15:K29,"Rouge") -> 7
B16: Activité | C16: CA HT entrées | D16: ↑ | E16: 62000 | F16: ='1-Les KPI de décembre'!E46 -> 61450 | G16: =F16-E16 -> -550 | H16: =F16/E16 -> 0.99112903 | I16: 58900 | J16: =F16/I16-1 -> 0.043293718 | K16: =IF(D16="↑",IF(H16>=1,"Vert",IF(H16>=0.95,"Orange","Rouge")),IF(H16<=1,"Vert",IF(H16<=1.05,"Orange","Rouge"))) -> Orange | M16: ★★ Voyants orange | N16: =COUNTIF(K15:K29,"Orange") -> 6
B17: Activité | C17: CA HT anniversaires | D17: ↑ | E17: 20000 | F17: ='1-Les KPI de décembre'!F46 -> 18620 | G17: =F17-E17 -> -1380 | H17: =F17/E17 -> 0.931 | I17: 19870 | J17: =F17/I17-1 -> -0.062908908 | K17: =IF(D17="↑",IF(H17>=1,"Vert",IF(H17>=0.95,"Orange","Rouge")),IF(H17<=1,"Vert",IF(H17<=1.05,"Orange","Rouge"))) -> Rouge | M17: ★★ Voyants verts | N17: =COUNTIF(K15:K29,"Vert") -> 2
B18: Activité | C18: CA HT snack | D18: ↑ | E18: 21500 | F18: ='1-Les KPI de décembre'!G46 -> 22340 | G18: =F18-E18 -> 840 | H18: =F18/E18 -> 1.0390698 | I18: 20150 | J18: =F18/I18-1 -> 0.10868486 | K18: =IF(D18="↑",IF(H18>=1,"Vert",IF(H18>=0.95,"Orange","Rouge")),IF(H18<=1,"Vert",IF(H18<=1.05,"Orange","Rouge"))) -> Vert
B19: Activité | C19: CA HT boutique | D19: ↑ | E19: 7500 | F19: ='1-Les KPI de décembre'!H46 -> 6980 | G19: =F19-E19 -> -520 | H19: =F19/E19 -> 0.93066667 | I19: 7420 | J19: =F19/I19-1 -> -0.059299191 | K19: =IF(D19="↑",IF(H19>=1,"Vert",IF(H19>=0.95,"Orange","Rouge")),IF(H19<=1,"Vert",IF(H19<=1.05,"Orange","Rouge"))) -> Rouge
B20: Activité | C20: CA HT cartes 10 entrées | D20: ↑ | E20: 9500 | F20: ='1-Les KPI de décembre'!I46 -> 8455 | G20: =F20-E20 -> -1045 | H20: =F20/E20 -> 0.89 | I20: 6175 | J20: =F20/I20-1 -> 0.36923077 | K20: =IF(D20="↑",IF(H20>=1,"Vert",IF(H20>=0.95,"Orange","Rouge")),IF(H20<=1,"Vert",IF(H20<=1.05,"Orange","Rouge"))) -> Rouge
B21: Clients | C21: Entrées (visiteurs) | D21: ↑ | E21: 8300 | F21: ='1-Les KPI de décembre'!D46 -> 8190 | G21: =F21-E21 -> -110 | H21: =F21/E21 -> 0.98674699 | I21: 7950 | J21: =F21/I21-1 -> 0.030188679 | K21: =IF(D21="↑",IF(H21>=1,"Vert",IF(H21>=0.95,"Orange","Rouge")),IF(H21<=1,"Vert",IF(H21<=1.05,"Orange","Rouge"))) -> Orange
B22: Clients | C22: Dépense moyenne par visiteur | D22: ↑ | E22: 14.5 | F22: ='1-Les KPI de décembre'!Q21 -> 14.388889 | G22: =F22-E22 -> -0.11111111 | H22: =F22/E22 -> 0.99233716 | I22: 14.1528 | J22: =F22/I22-1 -> 0.016681426 | K22: =IF(D22="↑",IF(H22>=1,"Vert",IF(H22>=0.95,"Orange","Rouge")),IF(H22<=1,"Vert",IF(H22<=1.05,"Orange","Rouge"))) -> Orange
B23: Clients | C23: Taux de captage du snack | D23: ↑ | E23: 0.38 | F23: ='1-Les KPI de décembre'!Q22 -> 0.35897436 | G23: =(F23-E23)*100 -> -2.1025641 | H23: =F23/E23 -> 0.94466937 | I23: 0.3497 | J23: =(F23-I23)*100 -> 0.9274359 | K23: =IF(D23="↑",IF(H23>=1,"Vert",IF(H23>=0.95,"Orange","Rouge")),IF(H23<=1,"Vert",IF(H23<=1.05,"Orange","Rouge"))) -> Rouge
B24: Clients | C24: Panier moyen du snack | D24: ↑ | E24: 7 | F24: ='1-Les KPI de décembre'!Q23 -> 7.5986395 | G24: =F24-E24 -> 0.59863946 | H24: =F24/E24 -> 1.0855199 | I24: 7.2482 | J24: =F24/I24-1 -> 0.04834848 | K24: =IF(D24="↑",IF(H24>=1,"Vert",IF(H24>=0.95,"Orange","Rouge")),IF(H24<=1,"Vert",IF(H24<=1.05,"Orange","Rouge"))) -> Vert
B25: Clients | C25: Fêtes d'anniversaire | D25: ↑ | E25: 100 | F25: ='1-Les KPI de décembre'!L46 -> 96 | G25: =F25-E25 -> -4 | H25: =F25/E25 -> 0.96 | I25: 104 | J25: =F25/I25-1 -> -0.076923077 | K25: =IF(D25="↑",IF(H25>=1,"Vert",IF(H25>=0.95,"Orange","Rouge")),IF(H25<=1,"Vert",IF(H25<=1.05,"Orange","Rouge"))) -> Orange
B26: Personnel | C26: Heures travaillées | D26: ↓ | E26: 2000 | F26: ='1-Les KPI de décembre'!M46 -> 2080 | G26: =F26-E26 -> 80 | H26: =F26/E26 -> 1.04 | I26: 2010 | J26: =F26/I26-1 -> 0.034825871 | K26: =IF(D26="↑",IF(H26>=1,"Vert",IF(H26>=0.95,"Orange","Rouge")),IF(H26<=1,"Vert",IF(H26<=1.05,"Orange","Rouge"))) -> Orange
B27: Personnel | C27: Productivité horaire | D27: ↑ | E27: 60 | F27: ='1-Les KPI de décembre'!Q25 -> 56.65625 | G27: =F27-E27 -> -3.34375 | H27: =F27/E27 -> 0.94427083 | I27: 55.9776 | J27: =F27/I27-1 -> 0.012123599 | K27: =IF(D27="↑",IF(H27>=1,"Vert",IF(H27>=0.95,"Orange","Rouge")),IF(H27<=1,"Vert",IF(H27<=1.05,"Orange","Rouge"))) -> Rouge
B28: Fidélité, qualité | C28: Cartes de fidélité ouvertes | D28: ↑ | E28: 180 | F28: ='1-Les KPI de décembre'!Q26 -> 142 | G28: =F28-E28 -> -38 | H28: =F28/E28 -> 0.78888889 | I28: 121 | J28: =F28/I28-1 -> 0.17355372 | K28: =IF(D28="↑",IF(H28>=1,"Vert",IF(H28>=0.95,"Orange","Rouge")),IF(H28<=1,"Vert",IF(H28<=1.05,"Orange","Rouge"))) -> Rouge
B29: Fidélité, qualité | C29: Réclamations | D29: ↓ | E29: 12 | F29: ='1-Les KPI de décembre'!Q27 -> 15 | G29: =F29-E29 -> 3 | H29: =F29/E29 -> 1.25 | I29: 11 | J29: =F29/I29-1 -> 0.36363636 | K29: =IF(D29="↑",IF(H29>=1,"Vert",IF(H29>=0.95,"Orange","Rouge")),IF(H29<=1,"Vert",IF(H29<=1.05,"Orange","Rouge"))) -> Rouge
B31: N-1 des ratios : calculés sur les totaux de décembre 2025 (112 515 € HT, 7 950 entrées, 2 780 tickets snack, 2 010 heures).
B33: F15 : ='1-Les KPI de décembre'!J46 · G15 : =F15-E15 · H15 : =F15/E15 · J15 : =F15/I15-1
B34: G23 et J23 (captage, en points) : =(F23-E23)*100 · =(F23-I23)*100, format personnalisé +0,0 "pts"
B35: ★★ K15 : =SI(H15>=1;"Vert";SI(H15>=0,95;"Orange";"Rouge")) · N15 : =NB.SI(K15:K29;"Rouge")
B36: ★★★ K15 : =SI(D15="↑";SI(H15>=1;"Vert";SI(H15>=0,95;"Orange";"Rouge"));SI(H15<=1;"Vert";SI(H15<=1,05;"Orange";"Rouge")))
B37: Sans le ★★★, les heures (104 %) et les réclamations (125 %) passent en vert : c'est faux, ce sont des dépassements.

Sheet 3-Mon tableau de bord
A1: Exercice 3 · Mon tableau de bord, en 5 indicateurs
A2: Temps conseillé : 15 min · Pour votre structure, celle de votre alternance · restitution à l'oral
A4: ★ L'ESSENTIEL
A5: 1. Choisissez la question à laquelle votre tableau répond (ligne 13) et sa fréquence : chaque jour, chaque semaine, chaque mois ?
A6: 2. Choisissez 5 indicateurs, pas plus. Pour chacun : ce qu'il mesure, comment il se calcule, où vous trouvez les chiffres.
A7: ★★ POUR ALLER PLUS LOIN
A8: 3. Pour chacun, le sens (↑ plus c'est haut, mieux c'est ; ↓ l'inverse) et un objectif chiffré réaliste.
A9: ★★★ LE DÉFI
A10: 4. Les 4 tests d'un bon indicateur : simple, précis, adapté à votre structure, constant d'une période à l'autre. Lequel de vos 5 est le plus fragile ? Pourquoi ? (ligne 21)
B13: La question | C13: Exemple : le tableau de bord quotidien de Léa — « la journée d'hier s'est-elle passée comme prévu ? »
B14: N° | C14: Indicateur | D14: Ce qu'il mesure | E14: Le calcul | F14: Où je trouve les chiffres | G14: Fréquence | H14: Sens | I14: Objectif
B15: 1 | C15: Entrées du jour | D15: la fréquentation | E15: compteur des entrées | F15: compteur, caisse | G15: chaque jour | H15: ↑ | I15: 300 le mercredi
B16: 2 | C16: CA HT du jour | D16: les ventes | E16: somme des activités, hors taxes | F16: Z de caisse | G16: chaque jour | H16: ↑ | I16: objectif du jour
B17: 3 | C17: Taux de captage du snack | D17: la part des visiteurs qui passent au snack | E17: tickets snack ÷ entrées | F17: caisse snack, compteur | G17: chaque jour | H17: ↑ | I17: 38 %
B18: 4 | C18: Panier moyen du snack | D18: ce que dépense un client du snack | E18: CA snack ÷ tickets snack | F18: caisse snack | G18: chaque jour | H18: ↑ | I18: 7,00 €
B19: 5 | C19: Productivité horaire | D19: l'efficacité de l'équipe | E19: CA HT ÷ heures travaillées | F19: Z de caisse, planning | G19: chaque semaine | H19: ↑ | I19: 60 €/h
B21: Le plus fragile | C21: Exemple : la productivité, si les heures du planning ne sont pas mises à jour après une absence (le chiffre n'est plus constant).
B23: Ce corrigé est un exemple : chaque structure a ses propres indicateurs. Ce qui compte, c'est la justification.
